BEGIN:VCALENDAR
VERSION:2.0
PRODID:-//Convivence-Samenleven - ECPv6.15.14//NONSGML v1.0//EN
CALSCALE:GREGORIAN
METHOD:PUBLISH
X-WR-CALNAME:Convivence-Samenleven
X-ORIGINAL-URL:https://www.convivence-samenleven.be
X-WR-CALDESC:Events for Convivence-Samenleven
REFRESH-INTERVAL;VALUE=DURATION:PT1H
X-Robots-Tag:noindex
X-PUBLISHED-TTL:PT1H
BEGIN:VTIMEZONE
TZID:Europe/Brussels
BEGIN:DAYLIGHT
TZOFFSETFROM:+0100
TZOFFSETTO:+0200
TZNAME:CEST
DTSTART:20250330T010000
END:DAYLIGHT
BEGIN:STANDARD
TZOFFSETFROM:+0200
TZOFFSETTO:+0100
TZNAME:CET
DTSTART:20251026T010000
END:STANDARD
BEGIN:DAYLIGHT
TZOFFSETFROM:+0100
TZOFFSETTO:+0200
TZNAME:CEST
DTSTART:20260329T010000
END:DAYLIGHT
BEGIN:STANDARD
TZOFFSETFROM:+0200
TZOFFSETTO:+0100
TZNAME:CET
DTSTART:20261025T010000
END:STANDARD
BEGIN:DAYLIGHT
TZOFFSETFROM:+0100
TZOFFSETTO:+0200
TZNAME:CEST
DTSTART:20270328T010000
END:DAYLIGHT
BEGIN:STANDARD
TZOFFSETFROM:+0200
TZOFFSETTO:+0100
TZNAME:CET
DTSTART:20271031T010000
END:STANDARD
END:VTIMEZONE
BEGIN:VEVENT
DTSTART;TZID=Europe/Brussels:20260924T173000
DTEND;TZID=Europe/Brussels:20260924T193000
DTSTAMP:20260424T162328
CREATED:20260330T145236Z
LAST-MODIFIED:20260330T145238Z
UID:2475-1790271000-1790278200@www.convivence-samenleven.be
SUMMARY:Les jeudis de l'énergie ! : "Séance d'info : matériaux durables"
DESCRIPTION:Dans les cadre de son cycle d’animations et de séances d’info « Les Jeudis de l’Énergie »\, l’équipe de l’ASBL Convivence vous invite à la :\n  \n« SÉANCE D’INFO : MATÉRIAUX DURABLES » !\n  \nCe sera pour vous l’occasion d’en apprendre plus sur quels matériaux utiliser pour réaliser une rénovation sans impacter l’environnement.  \n  \nRDV LE 24 SEPTEMBRE 2026 – DE 17H30 À 19H30 – À CAPLA ! (Boulevard Émile Bockstael 160\, 1020 Bruxelles)\n  \nImpossible pour vous d’être présent ? N’hésitez pas à venir aux prochaines animations ou séances d’info des « Jeudis de l’énergie » ! : \n\n23 AVRIL : « L’humidité dans mon logement »\n28 MAI : « Trucs et astuces : occupation de mon logement »\n25 JUIN : « Séance d’info : pathologies du bâti ancien »\n26 NOVEMBRE : « Comprendre ses factures énergie »\n10 DÉCEMBRE : « Séance d’info : PEB et rénovation énergétique »\n28 JANVIER : « Astuces et bricolage : économies d’énergie »\n25 FÉVRIER : « Séance d’info : isolation toitures »\n\n  \n  \nDES QUESTIONS ? : CONTACTEZ-NOUS !\n=> 02 505 01 30 / info@convivence.irisnet.be\n  \n 
URL:https://www.convivence-samenleven.be/event/les-jeudis-de-lenergie-seance-dinfo-materiaux-durables/
LOCATION:Convivence – CAPLA\, Boulevard Bockstael 160\, Bruxelles\, 1020\, Belgium
ATTACH;FMTTYPE=image/jpeg:https://www.convivence-samenleven.be/wp-content/uploads/2026/03/20260326_AFFICHE_Anim_SeanceInfo_Porjet_APC_ThD.jpg
END:VEVENT
END:VCALENDAR